BEGIN:VCALENDAR
VERSION:2.0
PRODID:-//ChamberMaster//Event Calendar 2.0//EN
METHOD:PUBLISH
X-PUBLISHED-TTL:P3D
REFRESH-INTERVAL:P3D
CALSCALE:GREGORIAN
BEGIN:VEVENT
DTSTART:20210315T233000Z
DTEND:20210316T010000Z
X-MICROSOFT-CDO-ALLDAYEVENT:FALSE
SUMMARY:Relay For Life of Kankakee County Virtual Kickoff
DESCRIPTION:Join us virtually as the Relay For Life of Kankakee County kicks off its fundraising season on Monday\, March 15\, 2021 via Zoom from 6:30p.m.   8:00p.m. The community is invited to come out and learn more about the Relay For Life movement and how they can help the American Cancer Society attack cancer from every angle. For more information\, please visit our website @ www.relayforlife.org/kankakeeil. Kankakee County Relay Virtual Kickoff Celebration Via a ZOOM Meeting To RSVP for the Kickoff or if you should have any questions\, please contact Michelle Pruitt @ michelle.pruitt@cancer.org.
X-ALT-DESC;FMTTYPE=text/html:Join us virtually as the Relay For Life of Kankakee County kicks off its fundraising season on Monday\, March 15\, 2021 via Zoom from 6:30p.m. &ndash\; 8:00p.m. The community is invited to come out and learn more about the Relay For Life movement and how they can help the American Cancer Society attack cancer from every angle. For more information\, please visit our website @ www.relayforlife.org/kankakeeil. Kankakee County Relay Virtual Kickoff Celebration Via a ZOOM Meeting To RSVP for the Kickoff or if you should have any questions\, please contact Michelle Pruitt @ michelle.pruitt@cancer.org.
LOCATION:Virtual
UID:e.771.3600
SEQUENCE:3
DTSTAMP:20260420T030823Z
URL:https://business.kankakeecountychamber.com/events/details/relay-for-life-of-kankakee-county-virtual-kickoff-3600
END:VEVENT

END:VCALENDAR
