BEGIN:VCALENDAR
VERSION:2.0
PRODID:-//ChamberMaster//Event Calendar 2.0//EN
METHOD:PUBLISH
X-PUBLISHED-TTL:P3D
REFRESH-INTERVAL:P3D
CALSCALE:GREGORIAN
BEGIN:VEVENT
DTSTART;VALUE=DATE:20200115
DTEND;VALUE=DATE:20200116
TRANSP:TRANSPARENT
X-MICROSOFT-CDO-ALLDAYEVENT:TRUE
SUMMARY:Ribbon Cutting: Boswell & Associates and Music Night at the Majestic
DESCRIPTION:Join us on Wednesday\, January 15th for a ribbon cutting at Boswell & Associates and the premiere of Music Night at the Majestic! Both are located in the Burfield + Remington in downtown Kankakee. The ribbon cutting will be at 4:30pm\, Burfield + Remington open house 5-6pm\, and Music Night at the Majestic\, a brand new live radio show being recorded in the Majestic Theater will be from 6-8pm.
X-ALT-DESC;FMTTYPE=text/html:<span style="font-family:arial\;"><span style="font-size:16px\;">Join us on Wednesday\, January 15th for a ribbon cutting at Boswell &amp\; Associates and the premiere of Music Night at the Majestic! Both are located in the Burfield + Remington in downtown Kankakee. The ribbon cutting will be at 4:30pm\,&nbsp\;<span style="color: rgb(29\, 33\, 41)\; white-space: pre-wrap\;">Burfield + Remington open house 5-6pm\, and Music Night at the Majestic\, a brand new live radio show being recorded in the Majestic Theater will be from 6-8pm. </span></span></span>
LOCATION:Burfield + Remington (The Majestic) 150 N Schuyler Ave Kankakee\, IL 60901
UID:e.771.3076
SEQUENCE:3
DTSTAMP:20260422T222351Z
URL:https://business.kankakeecountychamber.com/events/details/ribbon-cutting-boswell-associates-and-music-night-at-the-majestic-3076
END:VEVENT

END:VCALENDAR
