BEGIN:VCALENDAR
VERSION:2.0
PRODID:-//ChamberMaster//Event Calendar 2.0//EN
METHOD:PUBLISH
X-PUBLISHED-TTL:P3D
REFRESH-INTERVAL:P3D
CALSCALE:GREGORIAN
BEGIN:VEVENT
DTSTART:20210729T213000Z
DTEND:20210729T223000Z
X-MICROSOFT-CDO-ALLDAYEVENT:FALSE
SUMMARY:Ribbon Cutting: Cricket Wireless
DESCRIPTION:Please join us to welcome our newest member\, Cricket Wireless! We will be holding a ribbon cutting on July 29th from 4:30pm-5:30pm! Please invite others to attend as well!
X-ALT-DESC;FMTTYPE=text/html:<span style="color: rgb(60\, 64\, 67)\; font-family: Roboto\, Arial\, sans-serif\; font-size: 14px\; letter-spacing: 0.2px\; white-space: pre-wrap\;">Please join us to welcome our newest member\, Cricket Wireless! We will be holding a ribbon cutting on July 29th from 4:30pm-5:30pm! Please invite others to attend as well!</span>
LOCATION:1204 N Kinzie Ave\, Bradley IL 60915
UID:e.771.3676
SEQUENCE:3
DTSTAMP:20260419T195000Z
URL:https://business.kankakeecountychamber.com/events/details/ribbon-cutting-cricket-wireless-3676
END:VEVENT

END:VCALENDAR
