BEGIN:VCALENDAR
VERSION:2.0
PRODID:-//ChamberMaster//Event Calendar 2.0//EN
METHOD:PUBLISH
X-PUBLISHED-TTL:P3D
REFRESH-INTERVAL:P3D
CALSCALE:GREGORIAN
BEGIN:VEVENT
DTSTART:20210504T213000Z
DTEND:20210504T223000Z
X-MICROSOFT-CDO-ALLDAYEVENT:FALSE
SUMMARY:Ribbon Cutting for Electric Lady Lounge
DESCRIPTION:
X-ALT-DESC;FMTTYPE=text/html:
LOCATION:150 N Schuyler Ave Suite 207 Kankakee \, IL 60901 (815) 370-0748
UID:e.771.3630
SEQUENCE:3
DTSTAMP:20260420T000742Z
URL:https://business.kankakeecountychamber.com/events/details/ribbon-cutting-for-electric-lady-lounge-3630
END:VEVENT

END:VCALENDAR
