BEGIN:VCALENDAR
VERSION:2.0
PRODID:-//ChamberMaster//Event Calendar 2.0//EN
METHOD:PUBLISH
X-PUBLISHED-TTL:P3D
REFRESH-INTERVAL:P3D
CALSCALE:GREGORIAN
BEGIN:VEVENT
DTSTART:20200130T180000Z
DTEND:20200130T203000Z
X-MICROSOFT-CDO-ALLDAYEVENT:FALSE
SUMMARY:Ribbon Cutting: Kinzie Liquor
DESCRIPTION:Join us to celebrate new ownership at Kinzie Liquor in Bradley. Stop by on your lunch break to congratulate the new owner and check out the store.
X-ALT-DESC;FMTTYPE=text/html:Join us to celebrate new ownership at Kinzie Liquor in Bradley. Stop by on your lunch break to congratulate the new owner and check out the store.
LOCATION:195 S Kinzie Ave Bradley\, IL
UID:e.771.3086
SEQUENCE:3
DTSTAMP:20260422T221933Z
URL:https://business.kankakeecountychamber.com/events/details/ribbon-cutting-kinzie-liquor-3086
END:VEVENT

END:VCALENDAR
