BEGIN:VCALENDAR
VERSION:2.0
PRODID:-//ChamberMaster//Event Calendar 2.0//EN
METHOD:PUBLISH
X-PUBLISHED-TTL:P3D
REFRESH-INTERVAL:P3D
CALSCALE:GREGORIAN
BEGIN:VEVENT
DTSTART;VALUE=DATE:20200821
DTEND;VALUE=DATE:20200822
TRANSP:TRANSPARENT
X-MICROSOFT-CDO-ALLDAYEVENT:TRUE
SUMMARY:Riverside Pro-Am Golf Outing
DESCRIPTION:Riverside Pro-Am Golf Tournament\n\nRescheduled Date: Friday\, August 21\n\nJune 26: Early Bird Registrations/ Entry Fees are due\n\nJuly 24: All Registrations and Entry Fees are due\n\nAugust 14: No cancellations\, only substitutions can be made
X-ALT-DESC;FMTTYPE=text/html:Riverside Pro-Am Golf Tournament<br />\nRescheduled Date: Friday\, August 21<br />\nJune 26: Early Bird Registrations/ Entry Fees are due<br />\nJuly 24: All Registrations and Entry Fees are due<br />\nAugust 14: No cancellations\, only substitutions can be made
LOCATION:Kankakee Country Club
UID:e.771.3481
SEQUENCE:3
DTSTAMP:20260422T112651Z
URL:https://business.kankakeecountychamber.com/events/details/riverside-pro-am-golf-outing-3481
END:VEVENT

END:VCALENDAR
