BEGIN:VCALENDAR
VERSION:2.0
PRODID:-//ChamberMaster//Event Calendar 2.0//EN
METHOD:PUBLISH
X-PUBLISHED-TTL:P3D
REFRESH-INTERVAL:P3D
CALSCALE:GREGORIAN
BEGIN:VEVENT
DTSTART:20200225T170000Z
DTEND:20200226T030000Z
X-MICROSOFT-CDO-ALLDAYEVENT:FALSE
SUMMARY:Rotary Community Days
DESCRIPTION:In celebration of the birthday of Rotary (1905)\, the Rotary Club of Bradley-Bourbonnais will be holding a fundraiser at Monical's Pizza\, 597 Latham Drive\, Bourbonnais. 20% of your food bill will be donated back to our club. Visit our website for more info bbrotary.org. See you at Monical's!
X-ALT-DESC;FMTTYPE=text/html:In celebration of the birthday of Rotary (1905)\, the Rotary Club of Bradley-Bourbonnais will be holding a fundraiser at Monical&#39\;s Pizza\, 597 Latham Drive\, Bourbonnais. 20% of your food bill will be donated back to our club. Visit our website for more info bbrotary.org. See you at Monical&#39\;s!
LOCATION:Monical's of Bourbonnais 597 Latham Drive
UID:e.771.3331
SEQUENCE:3
DTSTAMP:20260422T194259Z
URL:https://business.kankakeecountychamber.com/events/details/rotary-community-days-3331
END:VEVENT

END:VCALENDAR
