BEGIN:VCALENDAR
VERSION:2.0
PRODID:-//ChamberMaster//Event Calendar 2.0//EN
METHOD:PUBLISH
X-PUBLISHED-TTL:P3D
REFRESH-INTERVAL:P3D
CALSCALE:GREGORIAN
BEGIN:VEVENT
DTSTART:20191219T220000Z
DTEND:20191220T010000Z
X-MICROSOFT-CDO-ALLDAYEVENT:FALSE
SUMMARY:SANTA is Here!
DESCRIPTION:"SANTA?! Santa's coming?! I know him! I know him!" The crew at Oasis Medical Services knows Santa VERY WELL\, and guess what?! We got him to agree to come see all the good boys and girls\, as well as well-behaved pets on December 19th\, 2019 at our office in Bourbonnais\, Illinois! Santa was only able to commit to 4:00 pm to 7:00 pm on December 19th due to his crazy busy schedule this time of year! We told him we'd take it! Come see Santa and the Oasis Elves December 19th\, 2019 between the hours of 4:00 pm and 7:00 pm and get your picture taken with Santa and get a goodie bag!
X-ALT-DESC;FMTTYPE=text/html:&quot\;SANTA?! Santa&#39\;s coming?! I know him! I know him!&quot\; The crew at Oasis Medical Services knows Santa VERY WELL\, and guess what?! We got him to agree to come see all the good boys and girls\, as well as well-behaved pets on December 19th\, 2019 at our office in Bourbonnais\, Illinois! Santa was only able to commit to 4:00 pm to 7:00 pm on December 19th due to his crazy busy schedule this time of year! We told him we&#39\;d take it! Come see Santa and the Oasis Elves December 19th\, 2019 between the hours of 4:00 pm and 7:00 pm and get your picture taken with Santa and get a goodie bag!
LOCATION:Oasis Medical Services 761 Main Street NW\, Suite A Bourbonnais\, IL 60914
UID:e.771.3075
SEQUENCE:3
DTSTAMP:20260422T221058Z
URL:https://business.kankakeecountychamber.com/events/details/santa-is-here-3075
END:VEVENT

END:VCALENDAR
