BEGIN:VCALENDAR
VERSION:2.0
PRODID:-//ChamberMaster//Event Calendar 2.0//EN
METHOD:PUBLISH
X-PUBLISHED-TTL:P3D
REFRESH-INTERVAL:P3D
CALSCALE:GREGORIAN
BEGIN:VEVENT
DTSTART:20210911T210000Z
DTEND:20210912T020000Z
X-MICROSOFT-CDO-ALLDAYEVENT:FALSE
SUMMARY:Sculpture\, Wine & Dine - A Benefit for the Nathan Manilow Sculpture Park
DESCRIPTION:4:00 p.m. registration opens with welcome beverages \n\n	Meet and Greet Artists represented in the collection \n	Guided tours by golf cart\n	Self-guided walking tours with our free app "Otocast" \n	Screenings of "Searching for Lady Day: A Portrait in Steel" a 30-minute documentary about artist Mark di Suvero \n	Enjoy cocktails and hors d'oeuvres \n	"Crowd Gate" by Rodrigo Lara Zendejas will be on view in the Visual Arts Gallery as a special tribute to 9/11\n	Silent Auction featuring artwork from regional favorites\, and other items\n\n\n\n7:00 p.m. farm-to-table dinner in the Park \n\n\n	Dedication of the new acquisition\, "Stargazing with Contrails" by Terrence Karpowicz\n	Debut of commissioned musical tribute to Richard Hunt by Ernest Dawkins\n\nAfterglow Party drinks by the fire\, live music and mingling
X-ALT-DESC;FMTTYPE=text/html:<strong><span style="font-family:calibri\,sans-serif"><span style="font-size:11pt">4:00 p.m</span></span></strong><span style="font-family:calibri\,sans-serif"><span style="font-size:11pt">. registration opens with welcome beverages&nbsp\;</span></span>\n<ul>\n	<li><span style="font-size:11pt">Meet and Greet Artists represented in the collection&nbsp\;</span></li>\n	<li><span style="font-size:11pt">Guided tours by golf cart</span></li>\n	<li><span style="font-size:11pt">Self-guided walking tours with our free app &ldquo\;Otocast&rdquo\;&nbsp\;</span></li>\n	<li><span style="font-size:11pt">Screenings of &ldquo\;Searching for Lady Day: A Portrait in Steel&rdquo\; a 30-minute documentary about artist Mark di Suvero&nbsp\;</span></li>\n	<li><span style="font-size:11pt">Enjoy cocktails and hors d&rsquo\;oeuvres&nbsp\;</span></li>\n	<li><span style="font-size:11pt">&ldquo\;Crowd Gate&rdquo\; by Rodrigo Lara Zendejas will be on view in the Visual Arts Gallery as a special tribute to 9/11</span></li>\n	<li><span style="font-size:11pt">Silent Auction featuring artwork from regional favorites\, and other items</span></li>\n</ul>\n<br />\n<span style="font-size:11pt"><strong>7:00 p.m.&nbsp\;</strong>farm-to-table dinner in the Park&nbsp\;</span>\n\n<ul>\n	<li><span style="font-size:11pt">Dedication of the new acquisition\, &ldquo\;Stargazing with Contrails&rdquo\; by Terrence Karpowicz</span></li>\n	<li><span style="font-size:11pt">Debut of commissioned musical tribute to Richard Hunt by Ernest Dawkins</span></li>\n</ul>\n<strong><span style="font-size:11pt">Afterglow Party&nbsp\;</span></strong><span style="font-size:11pt">drinks by the fire\, live music and mingling&nbsp\;</span>
LOCATION:Nathan Manilow Sculpture Park Governors State University 1 University Parkway University Park\, IL
UID:e.771.3680
SEQUENCE:3
DTSTAMP:20260419T164422Z
URL:https://business.kankakeecountychamber.com/events/details/sculpture-wine-dine-a-benefit-for-the-nathan-manilow-sculpture-park-3680
END:VEVENT

END:VCALENDAR
