BEGIN:VCALENDAR
VERSION:2.0
PRODID:-//ChamberMaster//Event Calendar 2.0//EN
METHOD:PUBLISH
X-PUBLISHED-TTL:P3D
REFRESH-INTERVAL:P3D
CALSCALE:GREGORIAN
BEGIN:VEVENT
DTSTART:20220513T170000Z
DTEND:20220513T180000Z
X-MICROSOFT-CDO-ALLDAYEVENT:FALSE
SUMMARY:Sexual Harassment Prevention Trainings
DESCRIPTION:All employers in the State of Illinois are\n\nrequired to provide 1 hour of sexual\n\nharassment prevention training to all\n\nemployees on a yearly basis.\n\n\n\nClove Alliance is providing free virtual and\n\nin person trainings to help companies stay\n\nupdated with the latest labor laws\, as well\n\nas working with businesses to create safe\n\nand inclusive working environments for all.\n\n\n\nTo register for a FREE training\n\nplease contact Clove Alliance's\n\nPrevention Department at\n\nprevention@clovealliance.org
X-ALT-DESC;FMTTYPE=text/html:All employers in the State of Illinois are<br />\nrequired to provide 1 hour of sexual<br />\nharassment prevention training to all<br />\nemployees on a yearly basis.<br />\n<br />\nClove Alliance is providing free virtual and<br />\nin person trainings to help companies stay<br />\nupdated with the latest labor laws\, as well<br />\nas working with businesses to create safe<br />\nand inclusive working environments for all.<br />\n<br />\nTo register for a FREE training<br />\nplease contact Clove Alliance&#39\;s<br />\nPrevention Department at<br />\nprevention@clovealliance.org
LOCATION:Kankakee Community College
UID:e.771.3803
SEQUENCE:3
DTSTAMP:20260425T223944Z
URL:https://business.kankakeecountychamber.com/events/details/sexual-harassment-prevention-trainings-05-13-2022-3803
END:VEVENT

END:VCALENDAR
