BEGIN:VCALENDAR
VERSION:2.0
PRODID:-//ChamberMaster//Event Calendar 2.0//EN
METHOD:PUBLISH
X-PUBLISHED-TTL:P3D
REFRESH-INTERVAL:P3D
CALSCALE:GREGORIAN
BEGIN:VEVENT
DTSTART:20220613T150000Z
DTEND:20220613T160000Z
X-MICROSOFT-CDO-ALLDAYEVENT:FALSE
SUMMARY:Sexual Harassment Prevention Trainings
DESCRIPTION:All employers in the State of Illinois are required to provide 1 hour of sexual harassment prevention training to all employees on a yearly basis.\n\n\n\nClove Alliance is providing free virtual and in person trainings to help companies stay updated with the latest labor laws\, as well as working with businesses to create safe and inclusive working environments for all. \n\n\n\nTo register for a FREE training please contact Clove Alliance's Prevention Department at prevention@clovealliance.org
X-ALT-DESC;FMTTYPE=text/html:All employers in the State of Illinois are required to provide 1 hour of sexual harassment prevention training to all employees on a yearly basis.<br />\n<br />\nClove Alliance is providing free virtual and in person trainings to help companies stay updated with the latest labor laws\, as well as working with businesses to create safe and inclusive working environments for all.&nbsp\;<br />\n<br />\nTo register for a FREE training please contact Clove Alliance&#39\;s Prevention Department at prevention@clovealliance.org
LOCATION:Zoom
UID:e.771.3804
SEQUENCE:3
DTSTAMP:20260420T061110Z
URL:https://business.kankakeecountychamber.com/events/details/sexual-harassment-prevention-trainings-06-13-2022-3804
END:VEVENT

END:VCALENDAR
