BEGIN:VCALENDAR
VERSION:2.0
PRODID:-//ChamberMaster//Event Calendar 2.0//EN
METHOD:PUBLISH
X-PUBLISHED-TTL:P3D
REFRESH-INTERVAL:P3D
CALSCALE:GREGORIAN
BEGIN:VEVENT
DTSTART:20190929T170000Z
DTEND:20190929T210000Z
X-MICROSOFT-CDO-ALLDAYEVENT:FALSE
SUMMARY:Sons of Italy Spaghetti Dinner
DESCRIPTION:Sons of Italy Spaghetti Supper\, Bishop MacNamara School in Bourbonnais\, formerly Maternity BVM School\, 308 E. Marsile\, Bourbonnais\, 60914. Noon-4 p.m.\, Sunday\, Sept. 29. Organized by Americo Vespucci Lodge 1722. Traditional homemade dinner includes meatballs\, sauce\, salad\, pop\, bread and dessert. Wine and homemade cookies sold on-site. Carryouts available. $10 for adults\, $5 for youths 12 and under. Tickets at the door\, from lodge members or call 815-933-4935 or email philangelo@comcast.net. Proceeds benefit Alzheimer's\, Autism\, Catholic Charities\, Hospice of Kankakee Valley\, KCC scholarships\, Harbor House and The Salvation Army.
X-ALT-DESC;FMTTYPE=text/html:Sons of Italy Spaghetti Supper\, Bishop MacNamara School in Bourbonnais\, formerly Maternity BVM School\, 308 E. Marsile\, Bourbonnais\, 60914. Noon-4 p.m.\, Sunday\, Sept. 29. Organized by Americo Vespucci Lodge 1722. Traditional homemade dinner includes meatballs\, sauce\, salad\, pop\, bread and dessert. Wine and homemade cookies sold on-site. Carryouts available. $10 for adults\, $5 for youths 12 and under. Tickets at the door\, from lodge members or call 815-933-4935 or email philangelo@comcast.net. Proceeds benefit Alzheimer&rsquo\;s\, Autism\, Catholic Charities\, Hospice of Kankakee Valley\, KCC scholarships\, Harbor House and The Salvation Army.
LOCATION:Bishop MacNamara School in Bourbonnais\, formerly Maternity BVM School\, 308 E. Marsile\, Bourbonnais\, 60914.
UID:e.771.2978
SEQUENCE:3
DTSTAMP:20260423T020611Z
URL:https://business.kankakeecountychamber.com/events/details/sons-of-italy-spaghetti-dinner-2978
END:VEVENT

END:VCALENDAR
