BEGIN:VCALENDAR
VERSION:2.0
PRODID:-//ChamberMaster//Event Calendar 2.0//EN
METHOD:PUBLISH
X-PUBLISHED-TTL:P3D
REFRESH-INTERVAL:P3D
CALSCALE:GREGORIAN
BEGIN:VEVENT
DTSTART;VALUE=DATE:20210424
DTEND;VALUE=DATE:20210425
TRANSP:TRANSPARENT
X-MICROSOFT-CDO-ALLDAYEVENT:TRUE
SUMMARY:Specialty Liqueur Tasting
DESCRIPTION:Specialty Liqueur Tasting\n\nA 7-course dinner and a special sample drink paired with each of the courses. \n\nWith the liquors featured and paired in both the drinks and dishes. \n\nPlease call for more details or to make reservations today!\n\n\n\nFeatured Liqueur\n\n\n\nMarch- St. Patrick's Themed             \n\nApril- Vodka Tasting                         \n\nMay- Tequila Tasting                           \n\n\n\n $60.00 per guest- Call for availability and details. Tax & Gratuity not included.\n\nAvailable Anytime by Reservation! (must be made at least 2 days prior)
X-ALT-DESC;FMTTYPE=text/html:<strong>Specialty&nbsp\;Liqueur Tasting</strong><br />\n<span style="background-color:rgb(255\, 255\, 255)\; color:rgb(123\, 140\, 137)\; font-family:gentium basic\; font-size:18px">A 7-course dinner and a special sample drink paired with each of the courses.&nbsp\;</span><br />\n<span style="background-color:rgb(255\, 255\, 255)\; color:rgb(123\, 140\, 137)\; font-family:gentium basic\; font-size:18px">With the liquors featured and paired in both the drinks and dishes.&nbsp\;</span><br />\n<span style="background-color:rgb(255\, 255\, 255)\; color:rgb(123\, 140\, 137)\; font-family:gentium basic\; font-size:18px">Please call for more details or to make reservations today!</span><br />\n<br />\n<u><strong>Featured&nbsp\;</strong></u><strong><u>Liqueur</u></strong><br />\n<br />\n<span style="background-color:rgb(255\, 255\, 255)\; color:rgb(123\, 140\, 137)\; font-family:gentium basic\; font-size:18px">March- St. Patrick&#39\;s Themed&nbsp\; &nbsp\; &nbsp\; &nbsp\; &nbsp\; &nbsp\; &nbsp\;</span><br />\n<span style="background-color:rgb(255\, 255\, 255)\; color:rgb(123\, 140\, 137)\; font-family:gentium basic\; font-size:18px">April- Vodka Tasting&nbsp\; &nbsp\; &nbsp\; &nbsp\; &nbsp\; &nbsp\; &nbsp\; &nbsp\; &nbsp\; &nbsp\; &nbsp\; &nbsp\; &nbsp\;</span><br />\n<span style="background-color:rgb(255\, 255\, 255)\; color:rgb(123\, 140\, 137)\; font-family:gentium basic\; font-size:18px">May- Tequila Tasting&nbsp\; &nbsp\; &nbsp\; &nbsp\; &nbsp\; &nbsp\; &nbsp\; &nbsp\; &nbsp\; &nbsp\; &nbsp\; &nbsp\; &nbsp\; &nbsp\;</span><br />\n<br />\n<span style="background-color:rgb(255\, 255\, 255)\; color:rgb(123\, 140\, 137)\; font-family:gentium basic\; font-size:18px">&nbsp\;$60.00 per guest-&nbsp\;Call for availability and details.</span><em>&nbsp\;Tax &amp\; Gratuity not included.<br />\nAvailable Anytime by Reservation!&nbsp\;(must be made at least 2 days prior)</em>
LOCATION:The Bennett-Curtis House 302 West Taylor Street Grant Park\, IL 60940
UID:e.771.3610
SEQUENCE:3
DTSTAMP:20260420T000601Z
URL:https://business.kankakeecountychamber.com/events/details/specialty-liqueur-tasting-04-24-2021-3610
END:VEVENT

END:VCALENDAR
