BEGIN:VCALENDAR
VERSION:2.0
PRODID:-//ChamberMaster//Event Calendar 2.0//EN
METHOD:PUBLISH
X-PUBLISHED-TTL:P3D
REFRESH-INTERVAL:P3D
CALSCALE:GREGORIAN
BEGIN:VEVENT
DTSTART;VALUE=DATE:20210314
DTEND;VALUE=DATE:20210315
TRANSP:TRANSPARENT
X-MICROSOFT-CDO-ALLDAYEVENT:TRUE
SUMMARY:St. Patrick's Day Weekend- Wizard Themed Dinner
DESCRIPTION:Witches and Wizards celebrate St. Patrick's Day at our specially themed Wizard Dinners!\n\n?Join us for a night of magical socially distanced fun in the fully decorated Hogwarts themed Bennett-Curtis Mansion- with fun scenes\, props\, & decorations throughout!\n\nWe are encouraging guests to come dressed for the occasion\, costumes are encouraged but not required. Limited seating so make your reservations early!\n\nYour evening will begin by being sorted into houses and figuring out the riddles to solve your photo scavenger hunt! Be sure to stop by The Cauldron Bar where you will be able to order specialty drinks including Polyjuice Potion\, Butterbeer\, Pumpkin Juice\, and more. Explore the mansion and grounds prior to seating for dinner\, there have been many scenes\, sets\, and props set up throughout. A specially themed plated dinner has been prepared by our house elves- you will cross onto Platform 9 3/4 and "travel" for a spectacular dinner in The Great Hall. Be sure to study up on your Wizard Trivia\, during dinner you will go head to head with the other houses in a race for the House Cup! After dinner enjoy special photo opts and interact with characters! Plus after dinner you will have a chance to participate in a Wizard Class- don't forget to stop by Ollivanders to purchase your wand\, we have many styles and character wands available at our shop just waiting to choose their Wizard!\n\nLimited seating is available\, Children and Adults welcome- an event for all ages!
X-ALT-DESC;FMTTYPE=text/html:<div>Witches and Wizards celebrate St. Patrick&#39\;s Day at our specially themed Wizard Dinners!</div>\n\n<div>?Join us for a night of magical socially distanced fun in the fully decorated Hogwarts themed Bennett-Curtis Mansion- with fun scenes\, props\, &amp\; decorations throughout!</div>\n\n<div>We are encouraging guests to come dressed for the occasion\, costumes are encouraged but not required. Limited seating so make your reservations early!</div>\n\n<div>Your evening will begin by being sorted into houses and figuring out the riddles to solve your photo scavenger hunt! Be sure to stop by The Cauldron Bar where you will be able to order specialty drinks including Polyjuice Potion\, Butterbeer\, Pumpkin Juice\, and more. Explore the mansion and grounds prior to seating for dinner\, there have been many scenes\, sets\, and props set up throughout. A specially themed plated dinner has been prepared by our house elves- you will cross onto Platform 9 3/4 and &quot\;travel&quot\; for a spectacular dinner in The Great Hall. Be sure to study up on your Wizard Trivia\, during dinner you will go head to head with the other houses in a race for the House Cup! After dinner enjoy special photo opts and interact with characters! Plus after dinner you will have a chance to participate in a Wizard Class- don&#39\;t forget to stop by Ollivanders to purchase your wand\, we have many styles and character wands available at our shop just waiting to choose their Wizard!</div>\n\n<div>Limited seating is available\, Children and Adults welcome- an event for all ages!</div>\n
LOCATION:The Bennett-Curtis House 302 West Taylor Street Grant Park\, IL 60940
UID:e.771.3614
SEQUENCE:3
DTSTAMP:20260420T030710Z
URL:https://business.kankakeecountychamber.com/events/details/st-patrick-s-day-weekend-wizard-themed-dinner-03-14-2021-3614
END:VEVENT

END:VCALENDAR
