BEGIN:VCALENDAR
VERSION:2.0
PRODID:-//ChamberMaster//Event Calendar 2.0//EN
METHOD:PUBLISH
X-PUBLISHED-TTL:P3D
REFRESH-INTERVAL:P3D
CALSCALE:GREGORIAN
BEGIN:VEVENT
DTSTART:20260301T000000Z
DTEND:20260301T040000Z
X-MICROSOFT-CDO-ALLDAYEVENT:FALSE
SUMMARY:St. Paul's Boots and Blessing
DESCRIPTION:Dust off your boots\, grab your favorite hat\, and get ready for a boot-kicking good time at St. Paul's annual Boots & Blessings Gala! This year's celebration brings together our school families\, friends\, and community for an unforgettable night of fellowship\, fun\, and fundraising   all in support of the school we love.
X-ALT-DESC;FMTTYPE=text/html:<div>Dust off your boots\, grab your favorite hat\, and get ready for a boot-kicking good time at St. Paul&rsquo\;s annual Boots &amp\; Blessings Gala! This year&rsquo\;s celebration brings together our school families\, friends\, and community for an unforgettable night of fellowship\, fun\, and fundraising &mdash\; all in support of the school we love.</div>\n
LOCATION:Quality Inn
UID:e.771.5491
SEQUENCE:3
DTSTAMP:20260423T094054Z
URL:https://business.kankakeecountychamber.com/events/details/st-paul-s-boots-and-blessing-5491
END:VEVENT

END:VCALENDAR
