BEGIN:VCALENDAR
VERSION:2.0
PRODID:-//ChamberMaster//Event Calendar 2.0//EN
METHOD:PUBLISH
X-PUBLISHED-TTL:P3D
REFRESH-INTERVAL:P3D
CALSCALE:GREGORIAN
BEGIN:VEVENT
DTSTART:20191030T120000Z
DTEND:20191030T140000Z
X-MICROSOFT-CDO-ALLDAYEVENT:FALSE
SUMMARY:State of the County Breakfast
DESCRIPTION:Join us to learn about the state of Kankakee County in 2019. Hear from several key\, county-wide organizations\, including the Kankakee County Chair\, Economic Alliance of Kankakee County\, Kankakee County Convention and Visitors Bureau\, Workforce Board\, Kankakee County Farm Bureau\, Community Foundation of the Kankakee River Valley\, and the Kankakee County Chamber of Commerce. \n\n\n\nThank you to our sponsors:\n\n\n	Riverside Healthcare\n	AMITA Health St. Mary's Hospital\n	Linkpoint Media\n	Milner Media\n	Taft\n	Adventure Commons
X-ALT-DESC;FMTTYPE=text/html:<p>Join us to learn about the state of Kankakee County in 2019. Hear from several key\, county-wide organizations\, including the Kankakee County Chair\, Economic Alliance of Kankakee County\, Kankakee County Convention and Visitors Bureau\, Workforce Board\, Kankakee County Farm Bureau\, Community Foundation of the Kankakee River Valley\, and the Kankakee County Chamber of Commerce.&nbsp\;<br />\n<br />\n<strong>Thank you to our sponsors:</strong></p>\n\n<ul>\n	<li>Riverside Healthcare</li>\n	<li>AMITA Health St. Mary&#39\;s Hospital</li>\n	<li>Linkpoint Media</li>\n	<li>Milner Media</li>\n	<li><a href="https://www.taftlaw.com/">Taft</a></li>\n	<li>Adventure Commons&nbsp\;</li>\n</ul>\n
LOCATION:Knights of Columbus
UID:e.771.2604
SEQUENCE:3
DTSTAMP:20260423T003653Z
URL:https://business.kankakeecountychamber.com/events/details/state-of-the-county-breakfast-2604
END:VEVENT

END:VCALENDAR
