BEGIN:VCALENDAR
VERSION:2.0
PRODID:-//ChamberMaster//Event Calendar 2.0//EN
METHOD:PUBLISH
X-PUBLISHED-TTL:P3D
REFRESH-INTERVAL:P3D
CALSCALE:GREGORIAN
BEGIN:VEVENT
DTSTART;VALUE=DATE:20200208
DTEND;VALUE=DATE:20200209
TRANSP:TRANSPARENT
X-MICROSOFT-CDO-ALLDAYEVENT:TRUE
SUMMARY:Steam Hollow 1 Year Anniversary Celebration
DESCRIPTION:Live music all day!\n\nRaffles every hour!\n\nSpecial anniversary beer release!\n\nAnniversary shirts and pint glasses for sale!\n\nFood by Mia Bellas Wood Fire Pizza!\n\n\n\nhttps://www.facebook.com/events/2813529228708139/
X-ALT-DESC;FMTTYPE=text/html:Live music all day!<br />\nRaffles every hour!<br />\nSpecial anniversary beer release!<br />\nAnniversary shirts and pint glasses for sale!<br />\nFood by Mia Bellas Wood Fire Pizza!<br />\n<br />\n<a href="https://www.facebook.com/events/2813529228708139/">https://www.facebook.com/events/2813529228708139/</a>
LOCATION:
UID:e.771.3087
SEQUENCE:3
DTSTAMP:20260422T194550Z
URL:https://business.kankakeecountychamber.com/events/details/steam-hollow-1-year-anniversary-celebration-3087
END:VEVENT

END:VCALENDAR
