BEGIN:VCALENDAR
VERSION:2.0
PRODID:-//ChamberMaster//Event Calendar 2.0//EN
METHOD:PUBLISH
X-PUBLISHED-TTL:P3D
REFRESH-INTERVAL:P3D
CALSCALE:GREGORIAN
BEGIN:VEVENT
DTSTART:20200116T003000Z
DTEND:20200116T030000Z
X-MICROSOFT-CDO-ALLDAYEVENT:FALSE
SUMMARY:Steam Hollow Paint Night
DESCRIPTION:Love hanging out at a brewery ? Love getting your art  on while you enjoy a brewski ? Love super cool venues that you can bring your dog   to? Say no more! \n\nI have teamed up with Steam Hollow to bring you just that! With your ticket  purchase\, you will be given all supplies (including apron\, easel\, paint\, brushes  \, canvases\, and step-by-step instruction) Think you can't paint worth a flip? That's ok\, I'm here to guide you through. So now you have no excuse! \n\n\n\n Sip Socialize Paint
X-ALT-DESC;FMTTYPE=text/html:<span style="color: rgb(29\, 33\, 41)\; font-family: Helvetica\, Arial\, sans-serif\; font-size: 14px\; white-space: pre-wrap\;">Love hanging out at a brewery&#127866\;? Love getting your art &#127912\;on while you enjoy a brewski&#127867\;? Love super cool venues that you can bring your dog &#128021\; to? Say no more! </span><br style="color: rgb(29\, 33\, 41)\; font-family: Helvetica\, Arial\, sans-serif\; font-size: 14px\; white-space: pre-wrap\;" />\n<span style="color: rgb(29\, 33\, 41)\; font-family: Helvetica\, Arial\, sans-serif\; font-size: 14px\; white-space: pre-wrap\;">I have teamed up with Steam Hollow to bring you just that! With your ticket &#127915\;purchase\, you will be given all supplies (including apron\, easel\, paint\, brushes &#128396\;\, canvases\, and step-by-step instruction) Think you can&rsquo\;t paint worth a flip? That&rsquo\;s ok\, I&rsquo\;m here to guide you through. So now you have no excuse! </span><br style="color: rgb(29\, 33\, 41)\; font-family: Helvetica\, Arial\, sans-serif\; font-size: 14px\; white-space: pre-wrap\;" />\n<br style="color: rgb(29\, 33\, 41)\; font-family: Helvetica\, Arial\, sans-serif\; font-size: 14px\; white-space: pre-wrap\;" />\n<span style="color: rgb(29\, 33\, 41)\; font-family: Helvetica\, Arial\, sans-serif\; font-size: 14px\; white-space: pre-wrap\;">&bull\;Sip&bull\;Socialize&bull\;Paint&bull\;</span>
LOCATION:Steam Hollow Brewing Co
UID:e.771.3083
SEQUENCE:3
DTSTAMP:20260422T205446Z
URL:https://business.kankakeecountychamber.com/events/details/steam-hollow-paint-night-3083
END:VEVENT

END:VCALENDAR
