BEGIN:VCALENDAR
VERSION:2.0
PRODID:-//ChamberMaster//Event Calendar 2.0//EN
METHOD:PUBLISH
X-PUBLISHED-TTL:P3D
REFRESH-INTERVAL:P3D
CALSCALE:GREGORIAN
BEGIN:VEVENT
DTSTART:20251213T180000Z
DTEND:20251213T200000Z
X-MICROSOFT-CDO-ALLDAYEVENT:FALSE
SUMMARY:Still I Rise: 12th Annual “Health and Wellness” Seminar
DESCRIPTION:This event intends to provide health awareness and education to the citizens of the community. This affair will serve as a catalyst for mental health education and social change. The event will allow individuals to obtain positive and educational messages from significant individuals including physicians\, medical experts\, etc. The ultimate purpose of this event is to provide an educational\, informative\, and positive experience for area citizens\, while encouraging them to continue putting their health first. Speakers: Dr. Rodney Alford and Jesse Jackson Jr.
X-ALT-DESC;FMTTYPE=text/html:This event intends to provide health awareness and education to the citizens of the community. This affair will serve as a catalyst for mental health education and social change. The event will allow individuals to obtain positive and educational messages from significant individuals including physicians\, medical experts\, etc. The ultimate purpose of this event is to provide an educational\, informative\, and positive experience for area citizens\, while encouraging them to continue putting their health first. Speakers: Dr. Rodney Alford and Jesse Jackson Jr.
LOCATION:Rigo's Place 164 North Schuyler Avenue Kankakee\, IL 60901
UID:e.771.5467
SEQUENCE:3
DTSTAMP:20260423T110603Z
URL:https://business.kankakeecountychamber.com/events/details/still-i-rise-12th-annual-health-and-wellness-seminar-5467
END:VEVENT

END:VCALENDAR
