BEGIN:VCALENDAR
VERSION:2.0
PRODID:-//ChamberMaster//Event Calendar 2.0//EN
METHOD:PUBLISH
X-PUBLISHED-TTL:P3D
REFRESH-INTERVAL:P3D
CALSCALE:GREGORIAN
BEGIN:VEVENT
DTSTART:20251220T180000Z
DTEND:20251220T200000Z
X-MICROSOFT-CDO-ALLDAYEVENT:FALSE
SUMMARY:Still I Rise and CIRKA Winter Apparel & Outerwear Giveaway
DESCRIPTION:This Saturday December 20th at 12pm\, CIRKA and Still I Rise will host its "Winter Apparel & Outerwear Giveaway". We will give away\, blankets\, scarves\, hats\, gloves\, hand warmers\, socks\, hygiene products\, etc. A hot meal will be catered.
X-ALT-DESC;FMTTYPE=text/html:This Saturday December 20th at 12pm\, CIRKA and Still I Rise will host its &ldquo\;Winter Apparel &amp\; Outerwear Giveaway&rdquo\;. We will give away\, blankets\, scarves\, hats\, gloves\, hand warmers\, socks\, hygiene products\, etc. A hot meal will be catered.
LOCATION:183 N Schuyler Ave\, Kankakee\, IL
UID:e.771.5489
SEQUENCE:3
DTSTAMP:20260423T110556Z
URL:https://business.kankakeecountychamber.com/events/details/still-i-rise-and-cirka-winter-apparel-outerwear-giveaway-5489
END:VEVENT

END:VCALENDAR
