BEGIN:VCALENDAR
VERSION:2.0
PRODID:-//ChamberMaster//Event Calendar 2.0//EN
METHOD:PUBLISH
X-PUBLISHED-TTL:P3D
REFRESH-INTERVAL:P3D
CALSCALE:GREGORIAN
BEGIN:VEVENT
DTSTART:20260307T180000Z
DTEND:20260307T200000Z
X-MICROSOFT-CDO-ALLDAYEVENT:FALSE
SUMMARY:Still I Rise & CIRKA: Clothing and Accessory Giveaway
DESCRIPTION:CIRKA and Still I Rise will host its "Clothing and Accessory Giveaway". To help those in need\, we will give away New & Gently Used: Men\, Women and Children clothing\, Socks\, T-Shirts\, Pajamas\, Winter Outerwear\, and more.
X-ALT-DESC;FMTTYPE=text/html:CIRKA and Still I Rise will host its &ldquo\;Clothing and Accessory Giveaway&rdquo\;. To help those in need\, we will give away New &amp\; Gently Used: Men\, Women and Children clothing\, Socks\, T-Shirts\, Pajamas\, Winter Outerwear\, and more.
LOCATION:CIRKA: 183 N Schuyler Ave\, Kankakee\, IL 60901
UID:e.771.5818
SEQUENCE:3
DTSTAMP:20260423T051406Z
URL:https://business.kankakeecountychamber.com/events/details/still-i-rise-cirka-clothing-and-accessory-giveaway-5818
END:VEVENT

END:VCALENDAR
