BEGIN:VCALENDAR
VERSION:2.0
PRODID:-//ChamberMaster//Event Calendar 2.0//EN
METHOD:PUBLISH
X-PUBLISHED-TTL:P3D
REFRESH-INTERVAL:P3D
CALSCALE:GREGORIAN
BEGIN:VEVENT
DTSTART:20230502T220000Z
DTEND:20230502T233000Z
X-MICROSOFT-CDO-ALLDAYEVENT:FALSE
SUMMARY:Taller de negocios de ECDA con el Departamento de Salud del Condado de Kankakee
DESCRIPTION:nase a ECDA y KCHD para un taller sobre servicios del programa de sanidad alimentaria. Habr  tiempo para establecer contactos\, refrigerios ligeros y la oportunidad de que sus preguntas sean respondidas. Este taller es en espa ol\, no en ingl s
X-ALT-DESC;FMTTYPE=text/html:<div>\n<div><span style="font-size:12px"><span style="font-family:arial\,helvetica\,sans-serif"><span style="color:rgba(0\, 0\, 0\, 0.88)">&Uacute\;nase a ECDA y KCHD para un taller sobre servicios del programa de sanidad alimentaria. Habr&aacute\; tiempo para establecer contactos\, refrigerios ligeros y la oportunidad de que sus preguntas sean respondidas.&nbsp\;</span></span></span><span style="color:rgba(0\, 0\, 0\, 0.88)\; font-family:arial\,helvetica\,sans-serif\; font-size:12px">Este taller es en espa&ntilde\;ol\, no en ingl&eacute\;s</span>\n<div>\n<div>&nbsp\;</div>\n</div>\n\n<div>\n<div>\n<div style="margin-right:16px">\n<div>&nbsp\;</div>\n</div>\n</div>\n</div>\n</div>\n\n<div>&nbsp\;</div>\n</div>\n\n<div>\n<div>\n<div style="margin-right:16px">\n<div>&nbsp\;</div>\n</div>\n</div>\n</div>\n
LOCATION:Sala de Conferencias ECDA
UID:e.771.4598
SEQUENCE:3
DTSTAMP:20260420T000852Z
URL:https://business.kankakeecountychamber.com/events/details/taller-de-negocios-de-ecda-con-el-departamento-de-salud-del-condado-de-kankakee-4598
END:VEVENT

END:VCALENDAR
