BEGIN:VCALENDAR
VERSION:2.0
PRODID:-//ChamberMaster//Event Calendar 2.0//EN
METHOD:PUBLISH
X-PUBLISHED-TTL:P3D
REFRESH-INTERVAL:P3D
CALSCALE:GREGORIAN
BEGIN:VEVENT
DTSTART;VALUE=DATE:20251201
DTEND;VALUE=DATE:20260201
TRANSP:TRANSPARENT
X-MICROSOFT-CDO-ALLDAYEVENT:TRUE
SUMMARY:Teen and Tween Winter Reading Challenge
DESCRIPTION:Welcome to the 2025-2026 Teen & Tween Winter Reading Challenge! The challenge runs from Monday\, December 1st\, to Saturday\, January 31st\, and is intended for Tweens and Teens in grades 5 to 12. In this challenge\, 30 minutes of reading will earn tickets to enter into two gift card prize drawings - two winners will be drawn for a $25 Barnes & Noble gift card\, and two winners will be drawn for a $25 Target gift card. The challenge will cap at 18 hours\, but there is no limit to how many tickets can be submitted for either prize. Additional tickets can be earned for completing other special activities.\n\nAll prize winners will be notified at the conclusion of the challenge. Have fun and good luck!
X-ALT-DESC;FMTTYPE=text/html:<p>Welcome to the 2025-2026 Teen &amp\; Tween Winter Reading Challenge! The challenge runs from&nbsp\;Monday\, December 1st\, to Saturday\, January 31st\,&nbsp\;and is intended for Tweens and Teens in&nbsp\;grades 5 to 12. In this challenge\, 30 minutes of reading will earn tickets to enter into two gift card prize drawings - two winners will be drawn for a $25 Barnes &amp\; Noble gift card\, and two winners will be drawn for a $25 Target gift card. The challenge will cap at 18 hours\, but there is no limit to how many tickets can be submitted for either prize. Additional tickets can be earned for completing other special activities.</p>\n\n<p>All prize winners will be notified at the conclusion of the challenge. Have fun and good luck!&nbsp\;</p>\n
LOCATION:
UID:e.771.5482
SEQUENCE:3
DTSTAMP:20260423T095027Z
URL:https://business.kankakeecountychamber.com/events/details/teen-and-tween-winter-reading-challenge-5482
END:VEVENT

END:VCALENDAR
