BEGIN:VCALENDAR
VERSION:2.0
PRODID:-//ChamberMaster//Event Calendar 2.0//EN
METHOD:PUBLISH
X-PUBLISHED-TTL:P3D
REFRESH-INTERVAL:P3D
CALSCALE:GREGORIAN
BEGIN:VEVENT
DTSTART:20221124T170000Z
DTEND:20221125T000000Z
X-MICROSOFT-CDO-ALLDAYEVENT:FALSE
SUMMARY:Thanksgiving Day by Bennett-Curtis House
DESCRIPTION:We offer a traditional Turkey dinner with all the trimmings: Including starter\, soup or salad and a family style dinner service! \n\nReservations Necessary! Call today (815) 465-2288.\n\n**18% Service charge is added for groups of 6 or more\n\n**Reservation seating is limited to 1.5 hours\n\n**Pre-payment required for parties of 13 or more
X-ALT-DESC;FMTTYPE=text/html:We offer a traditional Turkey dinner with all the trimmings: Including starter\, soup or salad and a family style dinner service!&nbsp\;<br />\nReservations Necessary! Call today (815) 465-2288.<br />\n**18% Service charge is added for groups of 6 or more<br />\n**Reservation seating is limited to 1.5 hours<br />\n**Pre-payment required for parties of 13 or more
LOCATION:Bennett-Curtis House 302 West Taylor Street Grant Park\, IL 60940
UID:e.771.3761
SEQUENCE:3
DTSTAMP:20260420T073147Z
URL:https://business.kankakeecountychamber.com/events/details/thanksgiving-day-by-bennett-curtis-house-3761
END:VEVENT

END:VCALENDAR
