BEGIN:VCALENDAR
VERSION:2.0
PRODID:-//ChamberMaster//Event Calendar 2.0//EN
METHOD:PUBLISH
X-PUBLISHED-TTL:P3D
REFRESH-INTERVAL:P3D
CALSCALE:GREGORIAN
BEGIN:VEVENT
DTSTART:20211114T000000Z
DTEND:20211114T040000Z
X-MICROSOFT-CDO-ALLDAYEVENT:FALSE
SUMMARY:The Great Mouse Race
DESCRIPTION:The River Valley Special Recreation Foundation's 5th Annual Great Mouse Race. Purchase mouse money to place a bet on your favorite mouse. Also try your luck on the Winners Wheel\, Plinko\, and Chuck-a-Luck. There will 50/50 raffles as well a raffle for a cooler full of many adult beverages. Funds raised help support recreational opportunities for those with special needs.
X-ALT-DESC;FMTTYPE=text/html:The River Valley Special Recreation Foundation&#39\;s 5th Annual Great Mouse Race. Purchase mouse money to place a bet on your favorite mouse. Also try your luck on the Winners Wheel\, Plinko\, and Chuck-a-Luck. There will 50/50 raffles as well a raffle for a cooler full of many adult beverages. Funds raised help support recreational opportunities for those with special needs.
LOCATION:Knights of Columbus Hall 187 S. Indiana Ave. Kankakee
UID:e.771.3781
SEQUENCE:3
DTSTAMP:20260419T151417Z
URL:https://business.kankakeecountychamber.com/events/details/the-great-mouse-race-11-13-2021-3781
END:VEVENT

END:VCALENDAR
