BEGIN:VCALENDAR
VERSION:2.0
PRODID:-//ChamberMaster//Event Calendar 2.0//EN
METHOD:PUBLISH
X-PUBLISHED-TTL:P3D
REFRESH-INTERVAL:P3D
CALSCALE:GREGORIAN
BEGIN:VEVENT
DTSTART:20191024T130000Z
DTEND:20191201T000000Z
X-MICROSOFT-CDO-ALLDAYEVENT:FALSE
SUMMARY:"The Harvest View" 1st Annual Juried Art Exhibition
DESCRIPTION:Local and regional artists are challenged to create works in their personal interpretation of the celebration of the harvest. Many works available for purchase. Exhibition runs through November 20th\, 2019. Admission is free and open to the public.
X-ALT-DESC;FMTTYPE=text/html:Local and regional artists are challenged to create works in their personal interpretation of the celebration of the harvest. Many works available for purchase. Exhibition runs through November 20th\, 2019. Admission is free and open to the public.
LOCATION:Harvest View\, 100 Harvest View Lane\, Herscher\, IL 60941
UID:e.771.3030
SEQUENCE:3
DTSTAMP:20260422T232926Z
URL:https://business.kankakeecountychamber.com/events/details/the-harvest-view-1st-annual-juried-art-exhibition-3030
END:VEVENT

END:VCALENDAR
