BEGIN:VCALENDAR
VERSION:2.0
PRODID:-//ChamberMaster//Event Calendar 2.0//EN
METHOD:PUBLISH
X-PUBLISHED-TTL:P3D
REFRESH-INTERVAL:P3D
CALSCALE:GREGORIAN
BEGIN:VEVENT
DTSTART:20210522T200000Z
DTEND:20210523T230000Z
X-MICROSOFT-CDO-ALLDAYEVENT:FALSE
SUMMARY:The Three Faces of Shakespeare
DESCRIPTION:This fundraising event will walk you through 3 vignettes where you will hear the words of Shakespeare's most common themes: Comedy\, Tragedy\, and Romance. Nestled amongst the trees outside our studios\, enjoy multiple themed sonnets and plays at each vignette. You will be able to sign up for a time frame between 3:00 and 6:00 PM\, with groups starting every 30 Minutes. Groups will be no larger than 10 people\, and COVID requirements will be in place. We hope to see you in Avon!
X-ALT-DESC;FMTTYPE=text/html:This fundraising event will walk you through 3 vignettes where you will hear the words of Shakespeare&#39\;s most common themes: Comedy\, Tragedy\, and Romance. Nestled amongst the trees outside our studios\, enjoy multiple themed sonnets and plays at each vignette. You will be able to sign up for a time frame between 3:00 and 6:00 PM\, with groups starting every 30 Minutes. Groups will be no larger than 10 people\, and COVID requirements will be in place. We hope to see you in Avon!
LOCATION:Kankakee Valley Theatre Association 1 Stuart Drive Kankakee\, IL 60901
UID:e.771.3634
SEQUENCE:3
DTSTAMP:20260420T000601Z
URL:https://business.kankakeecountychamber.com/events/details/the-three-faces-of-shakespeare-3634
END:VEVENT

END:VCALENDAR
