BEGIN:VCALENDAR
VERSION:2.0
PRODID:-//ChamberMaster//Event Calendar 2.0//EN
METHOD:PUBLISH
X-PUBLISHED-TTL:P3D
REFRESH-INTERVAL:P3D
CALSCALE:GREGORIAN
BEGIN:VEVENT
DTSTART:20200429T230000Z
DTEND:20200430T023000Z
X-MICROSOFT-CDO-ALLDAYEVENT:FALSE
SUMMARY:TRIVIA NIGHT - PRAIRIE STATE LEGAL SERVICES
DESCRIPTION:"Prairie State Legal Service's Trivia Night will take place at KCC on April 29\, 2020. Trivia Night is a fundraising event to benefit Prairie State Legal Services\, the local legal aid provider for Kankakee and Iroquois Counties." "Doors open at 6:00 PM. The Trivia event begins promptly at 6:30 PM. Individual contestant fees are $10. The fee for teams of up to 6 individuals is $50. Registration information is available at the Kankakee PSLS office located at 191 S Chicago Ave in Kankakee\, Illinois. Registration information also available from Karen Snyder at ksnyder@pslegal.org or by calling 815-935-2750."
X-ALT-DESC;FMTTYPE=text/html:&ldquo\;Prairie State Legal Service&#39\;s Trivia Night will take place at KCC on April 29\, 2020. Trivia Night is a fundraising event to benefit Prairie State Legal Services\, the local legal aid provider for Kankakee and Iroquois Counties.&rdquo\; &ldquo\;Doors open at 6:00 PM. The Trivia event begins promptly at 6:30 PM. Individual contestant fees are $10. The fee for teams of up to 6 individuals is $50. Registration information is available at the Kankakee PSLS office located at 191 S Chicago Ave in Kankakee\, Illinois. Registration information also available from Karen Snyder at ksnyder@pslegal.org or by calling 815-935-2750.&rdquo\;
LOCATION:Kankakee Community College Workforce Development 100 College Drive Kankakee\, Illinois 60901
UID:e.771.3359
SEQUENCE:3
DTSTAMP:20260422T170018Z
URL:https://business.kankakeecountychamber.com/events/details/trivia-night-prairie-state-legal-services-3359
END:VEVENT

END:VCALENDAR
