BEGIN:VCALENDAR
VERSION:2.0
PRODID:-//ChamberMaster//Event Calendar 2.0//EN
METHOD:PUBLISH
X-PUBLISHED-TTL:P3D
REFRESH-INTERVAL:P3D
CALSCALE:GREGORIAN
BEGIN:VEVENT
DTSTART;VALUE=DATE:20210430
DTEND;VALUE=DATE:20210503
TRANSP:TRANSPARENT
X-MICROSOFT-CDO-ALLDAYEVENT:TRUE
SUMMARY:United Way ANY-K
DESCRIPTION:March to recovery with us! Join United Way in our march to recovery. Sign up to bike\, walk or run for your community during the weekend of April 30 - May 2\, 2021. Each and every investment will support local organizations and community groups that are meeting our neighbors' needs like food\, mental health\, education and more.
X-ALT-DESC;FMTTYPE=text/html:March to recovery with us! Join United Way in our march to recovery. Sign up to bike\, walk or run for your community during the weekend of April 30 - May 2\, 2021. Each and every investment will support local organizations and community groups that are meeting our neighbors&#39\; needs like food\, mental health\, education and more.
LOCATION:Bourbonnais\, Perry Farm Park - 459 Kennedy Dr\, Bourbonnais\, IL 60914. Kankakee\, Cobb Park - 1002 Cobb Blvd\, Kankakee\, IL 60901. Manteno\, Legacy Park - William Ave\, Manteno\, IL 60950 Watseka\, Lake View Park - Located off of Rt. 24 by the Dralle Dealership. Onarga\, Durham Park - 619 W Lincoln Ave\, Onarga\, IL 60955 near Iroqois West Middle School. Gilman\, Haun Park - 1219 CR 1700 E\, Gilman\, IL 60938.
UID:e.771.3646
SEQUENCE:3
DTSTAMP:20260420T000543Z
URL:https://business.kankakeecountychamber.com/events/details/united-way-any-k-3646
END:VEVENT

END:VCALENDAR
