BEGIN:VCALENDAR
VERSION:2.0
PRODID:-//ChamberMaster//Event Calendar 2.0//EN
METHOD:PUBLISH
X-PUBLISHED-TTL:P3D
REFRESH-INTERVAL:P3D
CALSCALE:GREGORIAN
BEGIN:VEVENT
DTSTART:20230204T163000Z
DTEND:20230204T183000Z
X-MICROSOFT-CDO-ALLDAYEVENT:FALSE
SUMMARY:Valentine Gnomes Paint Party
DESCRIPTION:Join On A Whim and the Arts Center of Kankakee County just in time to create an adorable pair of Valentine Gomes for Valentine's Day!\n\nYou'll receive a cut-to-order design on wood and all supplies needed to complete your gnome pair during class time.  These cuties are about 5" tall\, perfect for a tiered tray\, desk\, table or shelf.\n\nYou'll have a choice of gnomes - boy/girl\; girl/girl\; boy/boy.\n\nRegistration required - deadline is 10 p.m. Saturday\, Jan. 28!\n\nWalk-ins are not available.
X-ALT-DESC;FMTTYPE=text/html:<span style="color:rgb(5\, 5\, 5)\; font-family:segoe ui historic\,segoe ui\,helvetica\,arial\,sans-serif\; font-size:15px">Join On A Whim and the Arts Center of Kankakee County just in time to create an adorable pair of Valentine Gomes for Valentine&#39\;s Day!<br />\nYou&#39\;ll receive a cut-to-order design on wood and all supplies needed to complete your gnome pair during class time.&nbsp\; These cuties are about 5&quot\; tall\, perfect for a tiered tray\, desk\, table or shelf.<br />\nYou&#39\;ll have a choice of gnomes - boy/girl\; girl/girl\; boy/boy.<br />\nRegistration required - deadline is 10 p.m. Saturday\, Jan. 28!<br />\nWalk-ins are not available.</span>
LOCATION:On A Whim at Arts Center of Kankakee County\, Northfield Square Mall Enter mall entrance by Kansai
UID:e.771.4277
SEQUENCE:3
DTSTAMP:20260419T120050Z
URL:https://business.kankakeecountychamber.com/events/details/valentine-gnomes-paint-party-4277
END:VEVENT

END:VCALENDAR
