BEGIN:VCALENDAR
VERSION:2.0
PRODID:-//ChamberMaster//Event Calendar 2.0//EN
METHOD:PUBLISH
X-PUBLISHED-TTL:P3D
REFRESH-INTERVAL:P3D
CALSCALE:GREGORIAN
BEGIN:VEVENT
DTSTART:20230305T190000Z
DTEND:20230305T210000Z
X-MICROSOFT-CDO-ALLDAYEVENT:FALSE
SUMMARY:Vintage Rustic Letters Make & Take!
DESCRIPTION:Join On A Whim and the Arts Center of Kankakee County for a fun Make & Take!\n\nWe're offering a special Vintage Rustic Letters class.   You'll have the choice of four (4) cut-for-you approximately 5" tall wood letters which you can choose to either have stand on a shelf or table OR hang/lean on a wall.   All materials are wood - you can learn paint techniques to make it look like chippy paint\, rust or even denim. You will be working with multiple layers of wood and paint to create the dimensional look.\n\nRegistration required\; class is $30 and includes the four (4) cut-for-you letters and a base. \n\nYou also have the option to personalize your class experience by choosing to do a word with more letters for an additional per-letter cost.  Details in the class discussion tab on the Arts Center of Kankakee County FB page.\n\nRegister by 10 pm Sat. Feb. 25th. Each blank is cut just for you - walk-ins are not available.
X-ALT-DESC;FMTTYPE=text/html:<span style="color:rgb(5\, 5\, 5)\; font-family:segoe ui historic\,segoe ui\,helvetica\,arial\,sans-serif\; font-size:15px">Join On A Whim and the Arts Center of Kankakee County for a fun Make &amp\; Take!<br />\nWe&#39\;re offering a special Vintage Rustic Letters class.&nbsp\; &nbsp\;You&#39\;ll have the choice of four (4) cut-for-you approximately 5&quot\; tall wood letters which you can choose to either have stand on a shelf or table OR hang/lean on a wall.&nbsp\; &nbsp\;All materials are wood - you can learn paint techniques to make it look like chippy paint\, rust or even denim. You will be working with multiple layers of wood and paint to create the dimensional look.<br />\nRegistration required\; class is $30 and includes the four (4) cut-for-you letters </span><span style="color:rgb(5\, 5\, 5)\; font-family:segoe ui historic\,segoe ui\,helvetica\,arial\,sans-serif\; font-size:15px">and a base.&nbsp\;</span><br />\n<span style="color:rgb(5\, 5\, 5)\; font-family:segoe ui historic\,segoe ui\,helvetica\,arial\,sans-serif\; font-size:15px">You also have the option to personalize your class experience by choosing to do a word with more letters for an additional per-letter cost.&nbsp\; Details in the class discussion tab on the Arts Center of Kankakee County FB page.<br />\nRegister by 10 pm Sat. Feb. 25th. Each blank is cut just for you - walk-ins are not available.</span>
LOCATION:One A Whim at the Arts Center of Kankakee County Northfield Square Mall\; enter at mall entrance by Kansai
UID:e.771.4278
SEQUENCE:3
DTSTAMP:20260420T013430Z
URL:https://business.kankakeecountychamber.com/events/details/vintage-rustic-letters-make-take-4278
END:VEVENT

END:VCALENDAR
