BEGIN:VCALENDAR
VERSION:2.0
PRODID:-//ChamberMaster//Event Calendar 2.0//EN
METHOD:PUBLISH
X-PUBLISHED-TTL:P3D
REFRESH-INTERVAL:P3D
CALSCALE:GREGORIAN
BEGIN:VEVENT
DTSTART:20191012T133000Z
DTEND:20191012T193000Z
X-MICROSOFT-CDO-ALLDAYEVENT:FALSE
SUMMARY:Visionary Marriage Conference
DESCRIPTION:Capture a God-sized vision for your family. Join us for this 5-session seminar\, to help you have a Visionary Marriage. Engaged couples welcome\, too! Please pre-register at www.PeoplesChurchToday.org to allow us to accurately plan for food. This event is free\, including breakfast and lunch! Thank you to our generous sponsors! For more information on Dr. Rob Rienow\, visit www.VisionaryFam.com
X-ALT-DESC;FMTTYPE=text/html:Capture a God-sized vision for your family. Join us for this 5-session seminar\, to help you have a Visionary Marriage. Engaged couples welcome\, too! Please <a href="http://www.peopleschurchtoday.org/8111-visionary-marriage-conference">pre-register</a>&nbsp\;at <a href="http://www.peopleschurchtoday.org/8111-visionary-marriage-conference">www.PeoplesChurchToday.org</a> to allow us to accurately plan for food. This event is free\, including breakfast and lunch! Thank you to our generous sponsors! For more information on Dr. Rob Rienow\, visit <a href="http://www.VisionaryFam.com">www.VisionaryFam.com</a><br />\n&nbsp\;
LOCATION:Capture a God-sized vision for your family. Join us for this 5-session seminar\, to help you have a Visionary Marriage. Engaged couples welcome\, too! Please pre-register at www.PeoplesChurchToday.org to allow us to accurately plan for food. This event is free\, including breakfast and lunch! Thank you to our generous sponsors! For more information on Dr. Rob Rienow\, visit www.VisionaryFam.com
UID:e.771.2982
SEQUENCE:3
DTSTAMP:20260423T003526Z
URL:https://business.kankakeecountychamber.com/events/details/visionary-marriage-conference-2982
END:VEVENT

END:VCALENDAR
