BEGIN:VCALENDAR
VERSION:2.0
PRODID:-//ChamberMaster//Event Calendar 2.0//EN
METHOD:PUBLISH
X-PUBLISHED-TTL:P3D
REFRESH-INTERVAL:P3D
CALSCALE:GREGORIAN
BEGIN:VEVENT
DTSTART:20200123T140000Z
DTEND:20200123T150000Z
X-MICROSOFT-CDO-ALLDAYEVENT:FALSE
SUMMARY:Voice of Business committee meeting
DESCRIPTION:
X-ALT-DESC;FMTTYPE=text/html:
LOCATION:Kankakee County Chamber of Commerce 200 E Court St\, Suite 710 Kankakee\, IL 60901
UID:e.771.3079
SEQUENCE:3
DTSTAMP:20260422T205800Z
URL:https://business.kankakeecountychamber.com/events/details/voice-of-business-committee-meeting-3079
END:VEVENT

END:VCALENDAR
