BEGIN:VCALENDAR
VERSION:2.0
PRODID:-//ChamberMaster//Event Calendar 2.0//EN
METHOD:PUBLISH
X-PUBLISHED-TTL:P3D
REFRESH-INTERVAL:P3D
CALSCALE:GREGORIAN
BEGIN:VEVENT
DTSTART:20220917T133000Z
DTEND:20220917T170000Z
X-MICROSOFT-CDO-ALLDAYEVENT:FALSE
SUMMARY:Walk to End Alzheimer's Kankakee & Iroquois County
DESCRIPTION:Held annually in more than 600 communities nationwide\, Walk to End Alzheimer's is the world's largest event to raise awareness and funds for Alzheimer's care\, support\, and research. \n\n\n\nWhat makes the Kankakee & Iroquois event special? We are consistently ranked in the Top 10 of over 600 events for the percentage of individuals and teams who return to Walk year after year.
X-ALT-DESC;FMTTYPE=text/html:Held annually in more than 600 communities nationwide\, Walk to End Alzheimer&#39\;s is the world&#39\;s largest event to raise awareness and funds for Alzheimer&#39\;s care\, support\, and research.&nbsp\;<br />\n<br />\nWhat makes the Kankakee &amp\; Iroquois event special? We are consistently ranked in the Top 10 of over 600 events for the percentage of individuals and teams who return to Walk year after year.&nbsp\;
LOCATION:Kankakee Community College - between the baseball fields and the river.
UID:e.771.4185
SEQUENCE:3
DTSTAMP:20260422T113734Z
URL:https://business.kankakeecountychamber.com/events/details/walk-to-end-alzheimer-s-kankakee-iroquois-county-4185
END:VEVENT

END:VCALENDAR
