BEGIN:VCALENDAR
VERSION:2.0
PRODID:-//ChamberMaster//Event Calendar 2.0//EN
METHOD:PUBLISH
X-PUBLISHED-TTL:P3D
REFRESH-INTERVAL:P3D
CALSCALE:GREGORIAN
BEGIN:VEVENT
DTSTART:20210128T233000Z
DTEND:20210129T000000Z
X-MICROSOFT-CDO-ALLDAYEVENT:FALSE
SUMMARY:Walk to End Alzheimer's Volunteer Kickoff - Session 2
DESCRIPTION:The Walk to End Alzheimer's is the world's largest event dedicated to finding a cure for Alzheimer's and all other dementia. In Illinois alone\, 220\,000 people are living with dementia. The Walk to End Alzheimer's Kankakee & Iroquois County is currently looking for volunteers to help plan this year's walk. If you would like to learn more about volunteering attend the upcoming Volunteer Kickoff Party!\n\n\n\nRSVP HERE\n\n\n\nContact klavelle@alz.org with any questions.
X-ALT-DESC;FMTTYPE=text/html:The Walk to End Alzheimer&#39\;s is the world&#39\;s largest event dedicated to finding a cure for Alzheimer&#39\;s and all other dementia. In Illinois alone\, 220\,000 people are living with dementia. The Walk to End Alzheimer&#39\;s Kankakee &amp\; Iroquois County is currently looking for volunteers to help plan this year&#39\;s walk. If you would like to learn more about volunteering attend the upcoming Volunteer Kickoff Party!<br />\n<br />\nRSVP <a href="https://docs.google.com/forms/d/e/1FAIpQLScAkzmTO-JAl8se_df30z-wMpQ7H_q2S9CPgHZjv9jSOQcuqg/viewform"><strong>HERE</strong></a><br />\n<br />\nContact klavelle@alz.org with any questions.
LOCATION:
UID:e.771.3537
SEQUENCE:3
DTSTAMP:20260420T043803Z
URL:https://business.kankakeecountychamber.com/events/details/walk-to-end-alzheimer-s-volunteer-kickoff-session-2-3537
END:VEVENT

END:VCALENDAR
