BEGIN:VCALENDAR
VERSION:2.0
PRODID:-//ChamberMaster//Event Calendar 2.0//EN
METHOD:PUBLISH
X-PUBLISHED-TTL:P3D
REFRESH-INTERVAL:P3D
CALSCALE:GREGORIAN
BEGIN:VEVENT
DTSTART:20191212T173000Z
DTEND:20191212T190000Z
X-MICROSOFT-CDO-ALLDAYEVENT:FALSE
SUMMARY:WIN Holiday Luncheon
DESCRIPTION:Join us for the WIN Holiday Luncheon!
X-ALT-DESC;FMTTYPE=text/html:Join us for the WIN Holiday Luncheon!
LOCATION:The Kankakee Depot 199 S East Ave Kankakee\, IL 60901
UID:e.771.2625
SEQUENCE:3
DTSTAMP:20260422T221238Z
URL:https://business.kankakeecountychamber.com/events/details/win-holiday-luncheon-2625
END:VEVENT

END:VCALENDAR
