BEGIN:VCALENDAR
VERSION:2.0
PRODID:-//ChamberMaster//Event Calendar 2.0//EN
METHOD:PUBLISH
X-PUBLISHED-TTL:P3D
REFRESH-INTERVAL:P3D
CALSCALE:GREGORIAN
BEGIN:VEVENT
DTSTART:20200409T163000Z
DTEND:20200409T180000Z
X-MICROSOFT-CDO-ALLDAYEVENT:FALSE
SUMMARY:WIN Meeting
DESCRIPTION:To ensure your health and safety\, we are rescheduling the WIN April event due to COVID-19. More information to follow. Thank you!
X-ALT-DESC;FMTTYPE=text/html:<span style="color: rgb(34\, 34\, 34)\; font-family: Arial\, Helvetica\, sans-serif\; font-size: small\;">To ensure your health and safety\, we are rescheduling the WIN April event due to COVID-19. More information to follow. Thank you!</span>
LOCATION:Kankakee Public Library 4th Floor Gallery
UID:e.771.3362
SEQUENCE:3
DTSTAMP:20260422T165913Z
URL:https://business.kankakeecountychamber.com/events/details/win-meeting-3362
END:VEVENT

END:VCALENDAR
