BEGIN:VCALENDAR
VERSION:2.0
PRODID:-//ChamberMaster//Event Calendar 2.0//EN
METHOD:PUBLISH
X-PUBLISHED-TTL:P3D
REFRESH-INTERVAL:P3D
CALSCALE:GREGORIAN
BEGIN:VEVENT
DTSTART:20200109T173000Z
DTEND:20200109T190000Z
X-MICROSOFT-CDO-ALLDAYEVENT:FALSE
SUMMARY:WIN Meeting - Coping with Grief
DESCRIPTION:Join Women In Networking for their January lunch & learn\, sponsored by Hospice of Kankakee Valley. Connie Lemon\, executive director of Hospice of Kankakee Valley\, will be our speaker. She will discuss dealing with grief after the holidays and taking care of yourself for a successful New Year. Network with other professional women in Kankakee County and enjoy lunch from Creme of the Crop! \n\n\n\nClick 'Register Now' to register for the January lunch OR to sign up for the WIN Annual Membership\n\n\n\nChamber Members: Please login to receive your member discount. Need help logging in? Contact Tommy at 815-351-9068 or info@kankakeecountychamber.com
X-ALT-DESC;FMTTYPE=text/html:Join Women In Networking for their January lunch &amp\; learn\, sponsored by Hospice of Kankakee Valley. Connie Lemon\, executive director of Hospice of Kankakee Valley\, will be our speaker. She will discuss dealing with grief after the holidays and taking care of yourself for a successful New Year. Network with other professional women in Kankakee County and enjoy lunch from Creme of the Crop!&nbsp\;<br />\n<br />\n<strong>Click &#39\;Register Now&#39\; to register for the January lunch OR to sign up for the WIN Annual Membership</strong><br />\n<br />\n<strong>Chamber Members: </strong>Please login to receive your member discount. Need help logging in? Contact Tommy at 815-351-9068 or info@kankakeecountychamber.com&nbsp\;
LOCATION:Kankakee Public Library 4th Floor Gallery
UID:e.771.3074
SEQUENCE:3
DTSTAMP:20260422T220229Z
URL:https://business.kankakeecountychamber.com/events/details/win-meeting-coping-with-grief-3074
END:VEVENT

END:VCALENDAR
