BEGIN:VCALENDAR
VERSION:2.0
PRODID:-//ChamberMaster//Event Calendar 2.0//EN
METHOD:PUBLISH
X-PUBLISHED-TTL:P3D
REFRESH-INTERVAL:P3D
CALSCALE:GREGORIAN
BEGIN:VEVENT
DTSTART:20211021T163000Z
DTEND:20211021T180000Z
X-MICROSOFT-CDO-ALLDAYEVENT:FALSE
SUMMARY:WIN October Luncheon 2021
DESCRIPTION:Don't Just Survive! Thrive! Presented by Peggy Sue Munday\n\n\n\nPeggy Sue Munday is a five year breast cancer survivor.  She was a guest speaker on the Oprah WInfrey Show\, newspaper columnist\, mentor and speaker.
X-ALT-DESC;FMTTYPE=text/html:Don&#39\;t Just Survive! Thrive! Presented by Peggy Sue Munday<br />\n<br />\nPeggy Sue Munday is a five year breast cancer survivor.&nbsp\; She was a guest speaker on the Oprah WInfrey Show\, newspaper columnist\, mentor and speaker.<br />\n<br />\n&nbsp\;
LOCATION:Adventure Commons 70 Ken Hayes Drive Bourbonnais\, IL 60914
UID:e.771.3684
SEQUENCE:3
DTSTAMP:20260419T163920Z
URL:https://business.kankakeecountychamber.com/events/details/win-october-luncheon-2021-3684
END:VEVENT

END:VCALENDAR
