BEGIN:VCALENDAR
VERSION:2.0
PRODID:-//ChamberMaster//Event Calendar 2.0//EN
METHOD:PUBLISH
X-PUBLISHED-TTL:P3D
REFRESH-INTERVAL:P3D
CALSCALE:GREGORIAN
BEGIN:VEVENT
DTSTART;VALUE=DATE:20220618
DTEND;VALUE=DATE:20220620
TRANSP:TRANSPARENT
X-MICROSOFT-CDO-ALLDAYEVENT:TRUE
SUMMARY:Wizard Festival-A Magical Celebration
DESCRIPTION:Study Magic in this immersive experience. Attend classes like Potions\, History of Magic\, Defense Against the Dark Arts and more! Visit "Wizard Alley" where you can shop for all your wizard merchandise! Have lunch\, dinner\, a snack\, or enjoy a themed drink like Butterbrew and more at The Cauldron Pub. Don't miss out on this magical experience!
X-ALT-DESC;FMTTYPE=text/html:<span style="color:rgb(33\, 33\, 33)\; font-family:bitter\; font-size:14.6667px"><strong>Study Magic in this immersive experience. Attend classes like Potions\, History of Magic\, Defense Against the Dark Arts and more! Visit &quot\;Wizard Alley&quot\; where you can shop for all your wizard merchandise! Have lunch\, dinner\, a snack\, or enjoy a themed drink like Butterbrew and more at The Cauldron Pub. Don&#39\;t miss out on this magical experience!</strong></span><span style="color:rgb(33\, 33\, 33)\; font-family:bitter\; font-size:14.6667px"> </span>
LOCATION:Northfield Square Mall 1600 N State Route 50 Bourbonnais IL 60914
UID:e.771.4188
SEQUENCE:3
DTSTAMP:20260420T061041Z
URL:https://business.kankakeecountychamber.com/events/details/wizard-festival-a-magical-celebration-4188
END:VEVENT

END:VCALENDAR
