BEGIN:VCALENDAR
VERSION:2.0
PRODID:-//ChamberMaster//Event Calendar 2.0//EN
METHOD:PUBLISH
X-PUBLISHED-TTL:P3D
REFRESH-INTERVAL:P3D
CALSCALE:GREGORIAN
BEGIN:VEVENT
DTSTART:20191010T213000Z
DTEND:20191010T230000Z
X-MICROSOFT-CDO-ALLDAYEVENT:FALSE
SUMMARY:Women in Relation Art Reception
DESCRIPTION:Join us at the Gretchen Charlton Art Gallery to view the newest art exhibition and meet the artists!
X-ALT-DESC;FMTTYPE=text/html:Join us at the Gretchen Charlton Art Gallery to view the newest art exhibition and meet the artists!
LOCATION:Gretchen Charlton Art Gallery/Heritage Village 901 N Entrance Ave\, Kankakee\, IL 60901
UID:e.771.3009
SEQUENCE:3
DTSTAMP:20260423T003633Z
URL:https://business.kankakeecountychamber.com/events/details/women-in-relation-art-reception-3009
END:VEVENT

END:VCALENDAR
