BEGIN:VCALENDAR
VERSION:2.0
PRODID:-//ChamberMaster//Event Calendar 2.0//EN
METHOD:PUBLISH
X-PUBLISHED-TTL:P3D
REFRESH-INTERVAL:P3D
CALSCALE:GREGORIAN
BEGIN:VEVENT
DTSTART:20191109T150000Z
DTEND:20191109T180000Z
X-MICROSOFT-CDO-ALLDAYEVENT:FALSE
SUMMARY:Women's Fair
DESCRIPTION:The Women's Fair is a gathering of women of all ages interested in support\, community\, and education of women's issues. A variety of vendors will be present\, from personal and family care to professional upward movement. Immediately after the fair\, we'll take a group photo outside of Heritage Village standing in concentric circles to represent the ripple effect we hope our creative efforts will have on our community.
X-ALT-DESC;FMTTYPE=text/html:The Women&#39\;s Fair is a gathering of women of all ages interested in support\, community\, and education of women&#39\;s issues. A variety of vendors will be present\, from personal and family care to professional upward movement. Immediately after the fair\, we&#39\;ll take a group photo outside of Heritage Village standing in concentric circles to represent the ripple effect we hope our creative efforts will have on our community.
LOCATION:Gretchen Charlton Art Gallery/Heritage Village 901 N Entrance Ave\, Kankakee\, IL 60901
UID:e.771.3010
SEQUENCE:3
DTSTAMP:20260423T003638Z
URL:https://business.kankakeecountychamber.com/events/details/women-s-fair-3010
END:VEVENT

END:VCALENDAR
