BEGIN:VCALENDAR
VERSION:2.0
PRODID:-//ChamberMaster//Event Calendar 2.0//EN
METHOD:PUBLISH
X-PUBLISHED-TTL:P3D
REFRESH-INTERVAL:P3D
CALSCALE:GREGORIAN
BEGIN:VEVENT
DTSTART:20191021T230000Z
DTEND:20191022T010000Z
X-MICROSOFT-CDO-ALLDAYEVENT:FALSE
SUMMARY:Women's Health Night
DESCRIPTION:Join us for a special Women's Health event!\n\n\n\nEnjoy appetizers and cocktails while speaking to physicians about Women's Health topics including breast health\, gynecological health\, bone density\, knowing your family history and genetic testing.\n\n\n\nLimited seats available. Register today by calling 855.MyAMITA (855.692.6482) or register online https://classes.amitahealth.org/wlp2/#!/classes/info/E6H00020
X-ALT-DESC;FMTTYPE=text/html:<span style="font-size:16px\;"><span style="color: rgb(29\, 33\, 41)\; font-family: Helvetica\, Arial\, sans-serif\; white-space: pre-wrap\;">Join us for a special Women&rsquo\;s Health event!</span><br style="color: rgb(29\, 33\, 41)\; font-family: Helvetica\, Arial\, sans-serif\; font-size: 14px\; white-space: pre-wrap\;" />\n<br style="color: rgb(29\, 33\, 41)\; font-family: Helvetica\, Arial\, sans-serif\; font-size: 14px\; white-space: pre-wrap\;" />\n<span style="color: rgb(29\, 33\, 41)\; font-family: Helvetica\, Arial\, sans-serif\; white-space: pre-wrap\;">Enjoy appetizers and cocktails while speaking to physicians about Women&rsquo\;s Health topics including breast health\, gynecological health\, bone density\, knowing your family history and genetic testing.</span><br style="color: rgb(29\, 33\, 41)\; font-family: Helvetica\, Arial\, sans-serif\; font-size: 14px\; white-space: pre-wrap\;" />\n<br style="color: rgb(29\, 33\, 41)\; font-family: Helvetica\, Arial\, sans-serif\; font-size: 14px\; white-space: pre-wrap\;" />\n<span style="color: rgb(29\, 33\, 41)\; font-family: Helvetica\, Arial\, sans-serif\; white-space: pre-wrap\;">Limited seats available. Register today by calling 855.MyAMITA (855.692.6482) or register online </span><a data-lynx-mode="hover" data-lynx-uri="https://l.facebook.com/l.php?u=https%3A%2F%2Fclasses.amitahealth.org%2Fwlp2%2F%3Ffbclid%3DIwAR3z0eaIi4yAMFJ2As0UzaWvQOaFF-Ooj-SusWMOSWGSWYgO-QrLmQg3CLs%23!%2Fclasses%2Finfo%2FE6H00020&amp\;h=AT1aNryyDGqFh41oIwDBPCb-cNQtbRBXzFYxFoYXJfOyC2ngjjuoosw-Yjemoyk9YqJV6WWfqtPPnH_tLl4oVIDsfDa-3h9wctIFFQuCMEpX9ukK8k-gc8E_7WG29YHfbA" href="https://classes.amitahealth.org/wlp2/?fbclid=IwAR3z0eaIi4yAMFJ2As0UzaWvQOaFF-Ooj-SusWMOSWGSWYgO-QrLmQg3CLs#!/classes/info/E6H00020" rel="nofollow noopener" style="color: rgb(56\, 88\, 152)\; cursor: pointer\; text-decoration-line: none\; font-family: Helvetica\, Arial\, sans-serif\; font-size: 14px\; white-space: pre-wrap\;" target="_blank">https://classes.amitahealth.org/wlp2/#!/classes/info/E6H00020</a></span>
LOCATION:Grapes & Hops 251 S Schuyler Ave Kankakee\, IL 60901
UID:e.771.3017
SEQUENCE:3
DTSTAMP:20260423T003800Z
URL:https://business.kankakeecountychamber.com/events/details/women-s-health-night-3017
END:VEVENT

END:VCALENDAR
