BEGIN:VCALENDAR
VERSION:2.0
PRODID:-//ChamberMaster//Event Calendar 2.0//EN
METHOD:PUBLISH
X-PUBLISHED-TTL:P3D
REFRESH-INTERVAL:P3D
CALSCALE:GREGORIAN
BEGIN:VEVENT
DTSTART:20200318T130000Z
DTEND:20200318T160000Z
X-MICROSOFT-CDO-ALLDAYEVENT:FALSE
SUMMARY:Women United
DESCRIPTION:Join United Way at Olivet Nazarene University for the annual Women United Event. This unique event brings women from across our community to network and celebrate local female leaders\, visionaries\, game-changers\, motivators\, supporters and advocates.  \n\n\n\nEvent Speakers\n\nJenny Schoenwetter - Executive Director\, Harbor House\n\nDeb Baron - Project Director\, Project SUN\n\nTess Rowland - CEO of T. Rowland Financial Office\, CFP\, CPA/PFS\, CDFA\n\nTami Galbreath - Trauma Informed Yoga Instructor\, Barefoot Yoga & more\n\n\n\nSpecial thanks to our Unity sponsor: CSL Behring!
X-ALT-DESC;FMTTYPE=text/html:Join United Way at Olivet Nazarene University for the annual Women United Event. This unique event brings women from across our community to network and celebrate local female leaders\, visionaries\, game-changers\, motivators\, supporters and advocates.&nbsp\;&nbsp\;<br />\n<br />\n<strong>Event Speakers</strong><br />\nJenny Schoenwetter - <em>Executive Director\, Harbor House</em><br />\nDeb Baron - <em>Project Director\, Project SUN</em><br />\nTess Rowland - <em>CEO of T. Rowland Financial Office\, CFP\, CPA/PFS\, CDFA</em><br />\nTami Galbreath - <em>Trauma Informed Yoga Instructor\, Barefoot Yoga &amp\; more</em><br />\n<br />\nSpecial thanks to our Unity sponsor: CSL Behring!
LOCATION:Chalfant Hall Olivet Nazarene University
UID:e.771.3093
SEQUENCE:3
DTSTAMP:20260422T182346Z
URL:https://business.kankakeecountychamber.com/events/details/women-united-03-18-2020-3093
END:VEVENT

END:VCALENDAR
