BEGIN:VCALENDAR
VERSION:2.0
PRODID:-//ChamberMaster//Event Calendar 2.0//EN
METHOD:PUBLISH
X-PUBLISHED-TTL:P3D
REFRESH-INTERVAL:P3D
CALSCALE:GREGORIAN
BEGIN:VEVENT
DTSTART:20210316T140000Z
DTEND:20210316T150000Z
X-MICROSOFT-CDO-ALLDAYEVENT:FALSE
SUMMARY:Women United 2021 Coffee and Connection...with Yourself and Your Community
DESCRIPTION:We are excited to announce our keynote speaker for this event - Liz Hehman\, founder and lead consultant at Highline Leadership Development Group. Liz seeks to impact individuals through her personal and professional development training. She has impacted individuals\, organizations\, teams\, and more. Learn more about Liz here. Save your spot! Women United's annual event is scheduled for March 16th at 9am via ZOOM. Tickets are $25.00 each. All attendees will receive a free drink from a Kankakee County cafe. Stay tuned for details! Questions? Email womenunited@myunitedway.org
X-ALT-DESC;FMTTYPE=text/html:We are excited to announce our keynote speaker for this event - Liz Hehman\, founder and lead consultant at Highline Leadership Development Group. Liz seeks to impact individuals through her personal and professional development training. She has impacted individuals\, organizations\, teams\, and more. Learn more about Liz here. Save your spot! Women United&#39\;s annual event is scheduled for March 16th at 9am via ZOOM. Tickets are $25.00 each. All attendees will receive a free drink from a Kankakee County cafe. Stay tuned for details! Questions? Email womenunited@myunitedway.org
LOCATION:ZOOM
UID:e.771.3598
SEQUENCE:3
DTSTAMP:20260420T014132Z
URL:https://business.kankakeecountychamber.com/events/details/women-united-2021-coffee-and-connection-with-yourself-and-your-community-3598
END:VEVENT

END:VCALENDAR
