BEGIN:VCALENDAR
VERSION:2.0
PRODID:-//ChamberMaster//Event Calendar 2.0//EN
METHOD:PUBLISH
X-PUBLISHED-TTL:P3D
REFRESH-INTERVAL:P3D
CALSCALE:GREGORIAN
BEGIN:VEVENT
DTSTART:20200215T193000Z
DTEND:20200215T213000Z
X-MICROSOFT-CDO-ALLDAYEVENT:FALSE
SUMMARY:Youth Acrylic Paint Class
DESCRIPTION:Youth Art Acrylic Paint Class will be held at the Arts Center in the Northfield Square mall near the Kansai entrance. Classes are for ages 12-16. All materials will be supplied. Students will learn about Basic color theory and acrylic techniques. Space is limited. Please RSVP to Amber Robinson: 815.549.0973 \, amber_hughesus@yahoo.com
X-ALT-DESC;FMTTYPE=text/html:Youth Art Acrylic Paint Class will be held at the Arts Center in the Northfield Square mall near the Kansai entrance. Classes are for ages 12-16. All materials will be supplied. Students will learn about Basic color theory and acrylic techniques. Space is limited. Please RSVP to Amber Robinson: 815.549.0973 \, amber_hughesus@yahoo.com
LOCATION:Arts Center: Northfield Square Mall near Kansai Entrance across from Auntie Anne's. 1600 N st rt 50 Bourbonnais\, IL. 60914
UID:e.771.3333
SEQUENCE:3
DTSTAMP:20260422T194432Z
URL:https://business.kankakeecountychamber.com/events/details/youth-acrylic-paint-class-3333
END:VEVENT

END:VCALENDAR
