BEGIN:VCALENDAR
VERSION:2.0
PRODID:-//ChamberMaster//Event Calendar 2.0//EN
METHOD:PUBLISH
X-PUBLISHED-TTL:P3D
REFRESH-INTERVAL:P3D
CALSCALE:GREGORIAN
BEGIN:VEVENT
DTSTART:20200229T190000Z
DTEND:20200229T210000Z
X-MICROSOFT-CDO-ALLDAYEVENT:FALSE
SUMMARY:Youth Expression Portraits
DESCRIPTION:Student will be exploring expressionism and creating portraits in Acrylic. Students will be encouraged to express themselves through art and create unique portraits that reflect their personality. All materials provided. ages 8-13.
X-ALT-DESC;FMTTYPE=text/html:Student will be exploring expressionism and creating portraits in Acrylic. Students will be encouraged to express themselves through art and create unique portraits that reflect their personality. All materials provided. ages 8-13.
LOCATION:Arts Center:Northfield Square Mall near Kansai entrance across from Auntie Anne's. 1600 N st rt 50 Bourbonnais IL 60914
UID:e.771.3338
SEQUENCE:3
DTSTAMP:20260422T194319Z
URL:https://business.kankakeecountychamber.com/events/details/youth-expression-portraits-3338
END:VEVENT

END:VCALENDAR
