BEGIN:VCALENDAR
VERSION:2.0
PRODID:-//ChamberMaster//Event Calendar 2.0//EN
METHOD:PUBLISH
X-PUBLISHED-TTL:P3D
REFRESH-INTERVAL:P3D
CALSCALE:GREGORIAN
BEGIN:VEVENT
DTSTART:20210727T220000Z
DTEND:20210728T000000Z
X-MICROSOFT-CDO-ALLDAYEVENT:FALSE
SUMMARY:YPN Mini Golf Outing at Adventure Commons
DESCRIPTION:Description: Please join the Kankakee County Chamber of Commerce for their YPN Mini Golf Outing sponsored by Amita Health St. Mary's Hospital. The event will be from 5-7pm and include pizza from Urban Farmer! The cost is $10 for members\, $12 for non-members. Go to www.kankakeecountychamber.com to register or come the night of the event! Even if you are not within the YPN\, PLEASE share with those who are!
X-ALT-DESC;FMTTYPE=text/html:<span class="ynRLnc" style="clip: rect(1px\, 1px\, 1px\, 1px)\; height: 1px\; overflow: hidden\; position: absolute\; white-space: nowrap\; width: 1px\; color: rgb(60\, 64\, 67)\; font-family: Roboto\, Arial\, sans-serif\; font-size: 14px\; letter-spacing: 0.2px\;">Description:</span> Please join the Kankakee County Chamber of Commerce for their YPN Mini Golf Outing sponsored by Amita Health St. Mary&#39\;s Hospital. The event will be from 5-7pm and include pizza from Urban Farmer! The cost is $10 for members\, $12 for non-members. Go to <a href="https://www.google.com/url?q=http://www.kankakeecountychamber.com&amp\;sa=D&amp\;source=calendar&amp\;ust=1626124042738000&amp\;usg=AOvVaw2ujkfuub8wVOdtt9B6iiuq" style="color: rgb(26\, 115\, 232)\;" target="_blank">www.kankakeecountychamber.com</a> to register or come the night of the event! Even if you are not within the YPN\, PLEASE share with those who are!
LOCATION:Adventure Commons\, 70 Ken Hayes Drive\, Bourbonnais\, IL 60914
UID:e.771.3674
SEQUENCE:3
DTSTAMP:20260419T195003Z
URL:https://business.kankakeecountychamber.com/events/details/ypn-mini-golf-outing-at-adventure-commons-3674
END:VEVENT

END:VCALENDAR
